BEGIN:VCALENDAR
VERSION:2.0
PRODID:-//Bradeur.fr//FR
CALSCALE:GREGORIAN
METHOD:PUBLISH
BEGIN:VEVENT
UID:1076-brocante-a-hallennes-lez-haubourdin@bradeur.fr
DTSTAMP:20260425T210222Z
DTSTART:20260919T070000
DTEND:20260919T160000
SUMMARY:Brocante à Hallennes Lez Haubourdin
DESCRIPTION:Samedi 19 Septembre 2026\nde 7h00 à 16h00\n\n59320 Hallennes L
 ez Haubourdin
LOCATION:59320 Hallennes Lez Haubourdin
URL:https://bradeur.fr/braderie.php?slug=brocante-a-hallennes-lez-haubourdi
 n
END:VEVENT
END:VCALENDAR
