BEGIN:VCALENDAR
VERSION:2.0
PRODID:-//Bradeur.fr//FR
CALSCALE:GREGORIAN
METHOD:PUBLISH
BEGIN:VEVENT
UID:596-brocante-a-hem-lenglet@bradeur.fr
DTSTAMP:20260425T180123Z
DTSTART:20260404T070000
DTEND:20260404T140000
SUMMARY:Brocante à Hem Lenglet
DESCRIPTION:Samedi 4 Avril 2026\nde 7h00 à 14h00\n\n59247 Hem Lenglet
LOCATION:59247 Hem Lenglet
URL:https://bradeur.fr/braderie.php?slug=brocante-a-hem-lenglet
END:VEVENT
END:VCALENDAR
