BEGIN:VCALENDAR
VERSION:2.0
PRODID:-//Bradeur.fr//FR
CALSCALE:GREGORIAN
METHOD:PUBLISH
BEGIN:VEVENT
UID:1025-brocante-a-hem-lenglet-1@bradeur.fr
DTSTAMP:20260425T235235Z
DTSTART:20260726T070000
DTEND:20260726T140000
SUMMARY:Brocante à Hem Lenglet
DESCRIPTION:Dimanche 26 Juillet 2026\nde 7h00 à 14h00\n\n59247 Hem Lenglet
LOCATION:59247 Hem Lenglet
URL:https://bradeur.fr/braderie.php?slug=brocante-a-hem-lenglet-1
END:VEVENT
END:VCALENDAR
