BEGIN:VCALENDAR
VERSION:2.0
PRODID:-//Bradeur.fr//FR
CALSCALE:GREGORIAN
METHOD:PUBLISH
BEGIN:VEVENT
UID:993-brocante-a-keiem@bradeur.fr
DTSTAMP:20260426T022417Z
DTSTART:20260628T070000
DTEND:20260628T170000
SUMMARY:Brocante à Keiem
DESCRIPTION:Dimanche 28 Juin 2026\nde 7h00 à 17h00\n\nHARMONIE KEIEM\nKeie
 m
LOCATION:Keiem
URL:https://bradeur.fr/braderie.php?slug=brocante-a-keiem
END:VEVENT
END:VCALENDAR
