BEGIN:VCALENDAR
VERSION:2.0
PRODID:-//Bradeur.fr//FR
CALSCALE:GREGORIAN
METHOD:PUBLISH
BEGIN:VEVENT
UID:768-brocante-a-le-quesnoy@bradeur.fr
DTSTAMP:20260425T234938Z
DTSTART:20260501T080000
DTEND:20260501T180000
SUMMARY:Brocante à Le Quesnoy
DESCRIPTION:Vendredi 1 Mai 2026\nde 8h00 à 18h00\n\n59530 Le Quesnoy
LOCATION:59530 Le Quesnoy
URL:https://bradeur.fr/braderie.php?slug=brocante-a-le-quesnoy
END:VEVENT
END:VCALENDAR
