BEGIN:VCALENDAR
VERSION:2.0
PRODID:-//Bradeur.fr//FR
CALSCALE:GREGORIAN
METHOD:PUBLISH
BEGIN:VEVENT
UID:1067-brocante-a-longuenesse@bradeur.fr
DTSTAMP:20260425T204854Z
DTSTART:20260906T060000
DTEND:20260906T180000
SUMMARY:Brocante à Longuenesse
DESCRIPTION:Dimanche 6 Septembre 2026\nde 6h00 à 18h00\n\n62219 Longueness
 e
LOCATION:62219 Longuenesse
URL:https://bradeur.fr/braderie.php?slug=brocante-a-longuenesse
END:VEVENT
END:VCALENDAR
