BEGIN:VCALENDAR
VERSION:2.0
PRODID:-//Bradeur.fr//FR
CALSCALE:GREGORIAN
METHOD:PUBLISH
BEGIN:VEVENT
UID:495-brocante-a-mericourt@bradeur.fr
DTSTAMP:20260425T180052Z
DTSTART:20260314T080000
DTEND:20260315T180000
SUMMARY:Brocante à Mericourt
DESCRIPTION:Samedi 14 Mars 2026\nde 8h00 à 18h00\n\n62680 Mericourt
LOCATION:62680 Mericourt
URL:https://bradeur.fr/braderie.php?slug=brocante-a-mericourt
END:VEVENT
END:VCALENDAR
