BEGIN:VCALENDAR
VERSION:2.0
PRODID:-//Bradeur.fr//FR
CALSCALE:GREGORIAN
METHOD:PUBLISH
BEGIN:VEVENT
UID:607-brocante-a-monchecourt@bradeur.fr
DTSTAMP:20260425T180436Z
DTSTART:20260405T070000
DTEND:20260405T153000
SUMMARY:Brocante à Monchecourt
DESCRIPTION:Dimanche 5 Avril 2026\nde 7h00 à 15h30\n\n59234 Monchecourt
LOCATION:59234 Monchecourt
URL:https://bradeur.fr/braderie.php?slug=brocante-a-monchecourt
END:VEVENT
END:VCALENDAR
