BEGIN:VCALENDAR
VERSION:2.0
PRODID:-//Bradeur.fr//FR
CALSCALE:GREGORIAN
METHOD:PUBLISH
BEGIN:VEVENT
UID:1000-brocante-a-neuville-sur-escaut@bradeur.fr
DTSTAMP:20260426T000012Z
DTSTART:20260705T070000
DTEND:20260705T163000
SUMMARY:Brocante à Neuville Sur Escaut
DESCRIPTION:Dimanche 5 Juillet 2026\nde 7h00 à 16h30\n\n59293 Neuville Sur
  Escaut
LOCATION:59293 Neuville Sur Escaut
URL:https://bradeur.fr/braderie.php?slug=brocante-a-neuville-sur-escaut
END:VEVENT
END:VCALENDAR
