BEGIN:VCALENDAR
VERSION:2.0
PRODID:-//Bradeur.fr//FR
CALSCALE:GREGORIAN
METHOD:PUBLISH
BEGIN:VEVENT
UID:1037-brocante-a-ouve-wirquin@bradeur.fr
DTSTAMP:20260425T221014Z
DTSTART:20260802T080000
DTEND:20260802T170000
SUMMARY:Brocante à Ouve Wirquin
DESCRIPTION:Dimanche 2 Août 2026\nde 8h00 à 17h00\n\n62380 Ouve Wirquin
LOCATION:62380 Ouve Wirquin
URL:https://bradeur.fr/braderie.php?slug=brocante-a-ouve-wirquin
END:VEVENT
END:VCALENDAR
