BEGIN:VCALENDAR
VERSION:2.0
PRODID:-//Bradeur.fr//FR
CALSCALE:GREGORIAN
METHOD:PUBLISH
BEGIN:VEVENT
UID:529-brocante-a-rinxent@bradeur.fr
DTSTAMP:20260425T180016Z
DTSTART:20260322T090000
DTEND:20260322T180000
SUMMARY:Brocante à Rinxent
DESCRIPTION:Dimanche 22 Mars 2026\nde 9h00 à 18h00\n\n62720 Rinxent
LOCATION:62720 Rinxent
URL:https://bradeur.fr/braderie.php?slug=brocante-a-rinxent
END:VEVENT
END:VCALENDAR
