BEGIN:VCALENDAR
VERSION:2.0
PRODID:-//Bradeur.fr//FR
CALSCALE:GREGORIAN
METHOD:PUBLISH
BEGIN:VEVENT
UID:719-brocante-a-saint-etienne-au-mont@bradeur.fr
DTSTAMP:20260425T225739Z
DTSTART:20260419T080000
DTEND:20260419T180000
SUMMARY:Brocante à Saint Etienne Au Mont
DESCRIPTION:Dimanche 19 Avril 2026\nde 8h00 à 18h00\n\n62360 Saint Etienne
  Au Mont
LOCATION:62360 Saint Etienne Au Mont
URL:https://bradeur.fr/braderie.php?slug=brocante-a-saint-etienne-au-mont
END:VEVENT
END:VCALENDAR
