BEGIN:VCALENDAR
VERSION:2.0
PRODID:-//Bradeur.fr//FR
CALSCALE:GREGORIAN
METHOD:PUBLISH
BEGIN:VEVENT
UID:1120-brocante-a-saint-folquin@bradeur.fr
DTSTAMP:20260425T180226Z
DTSTART:20261025T080000
DTEND:20261025T180000
SUMMARY:Brocante à Saint Folquin
DESCRIPTION:Dimanche 25 Octobre 2026\nde 8h00 à 18h00\n\n62370 Saint Folqu
 in
LOCATION:62370 Saint Folquin
URL:https://bradeur.fr/braderie.php?slug=brocante-a-saint-folquin
END:VEVENT
END:VCALENDAR
