BEGIN:VCALENDAR
VERSION:2.0
PRODID:-//Bradeur.fr//FR
CALSCALE:GREGORIAN
METHOD:PUBLISH
BEGIN:VEVENT
UID:1010-brocante-a-saint-omer-1@bradeur.fr
DTSTAMP:20260426T022046Z
DTSTART:20260712T080000
DTEND:20260712T180000
SUMMARY:Brocante à Saint Omer
DESCRIPTION:Dimanche 12 Juillet 2026\nde 8h00 à 18h00\n\n62500 Saint Omer
LOCATION:62500 Saint Omer
URL:https://bradeur.fr/braderie.php?slug=brocante-a-saint-omer-1
END:VEVENT
END:VCALENDAR
