BEGIN:VCALENDAR
VERSION:2.0
PRODID:-//Bradeur.fr//FR
CALSCALE:GREGORIAN
METHOD:PUBLISH
BEGIN:VEVENT
UID:1123-brocante-a-saint-pol-sur-mer@bradeur.fr
DTSTAMP:20260425T180416Z
DTSTART:20261101T090000
DTEND:20261101T180000
SUMMARY:Brocante à Saint Pol Sur Mer
DESCRIPTION:Dimanche 1 Novembre 2026\nde 9h00 à 18h00\n\n59430 Saint Pol S
 ur Mer
LOCATION:59430 Saint Pol Sur Mer
URL:https://bradeur.fr/braderie.php?slug=brocante-a-saint-pol-sur-mer
END:VEVENT
END:VCALENDAR
