BEGIN:VCALENDAR
VERSION:2.0
PRODID:-//Bradeur.fr//FR
CALSCALE:GREGORIAN
METHOD:PUBLISH
BEGIN:VEVENT
UID:1141-brocante-a-sainte-marie-cappel@bradeur.fr
DTSTAMP:20260425T180416Z
DTSTART:20261129T070000
DTEND:20261129T160000
SUMMARY:Brocante à Sainte Marie Cappel
DESCRIPTION:Dimanche 29 Novembre 2026\nde 7h00 à 16h00\n\n59670 Sainte Mar
 ie Cappel
LOCATION:59670 Sainte Marie Cappel
URL:https://bradeur.fr/braderie.php?slug=brocante-a-sainte-marie-cappel
END:VEVENT
END:VCALENDAR
