BEGIN:VCALENDAR
VERSION:2.0
PRODID:-//Bradeur.fr//FR
CALSCALE:GREGORIAN
METHOD:PUBLISH
BEGIN:VEVENT
UID:940-brocante-a-sangatte@bradeur.fr
DTSTAMP:20260426T022432Z
DTSTART:20260607T070000
DTEND:20260607T190000
SUMMARY:Brocante à Sangatte
DESCRIPTION:Dimanche 7 Juin 2026\nde 7h00 à 19h00\n\n62231 Sangatte
LOCATION:62231 Sangatte
URL:https://bradeur.fr/braderie.php?slug=brocante-a-sangatte
END:VEVENT
END:VCALENDAR
