BEGIN:VCALENDAR
VERSION:2.0
PRODID:-//Bradeur.fr//FR
CALSCALE:GREGORIAN
METHOD:PUBLISH
BEGIN:VEVENT
UID:558-brocante-a-warhem@bradeur.fr
DTSTAMP:20260425T175954Z
DTSTART:20260329T080000
DTEND:20260329T160000
SUMMARY:Brocante à Warhem
DESCRIPTION:Dimanche 29 Mars 2026\nde 8h00 à 16h00\n\n59380 Warhem
LOCATION:59380 Warhem
URL:https://bradeur.fr/braderie.php?slug=brocante-a-warhem
END:VEVENT
END:VCALENDAR
