BEGIN:VCALENDAR
VERSION:2.0
PRODID:-//Bradeur.fr//FR
CALSCALE:GREGORIAN
METHOD:PUBLISH
BEGIN:VEVENT
UID:2259-brocante-collection@bradeur.fr
DTSTAMP:20260425T204400Z
DTSTART:20260412T060000
DTEND:20260412T183000
SUMMARY:Brocante collection
DESCRIPTION:Place prix 50 euros 40 euros jusqu'a fin mars\n\nDimanche 8 Mar
 s 2026\nde 6h00 à 18h30\n\nJean Pierre\nAvenue de la Gare\n07120 Ruoms
LOCATION:Avenue de la Gare, 07120 Ruoms
URL:https://bradeur.fr/braderie.php?slug=brocante-collection
END:VEVENT
END:VCALENDAR
