BEGIN:VCALENDAR
VERSION:2.0
PRODID:-//Bradeur.fr//FR
CALSCALE:GREGORIAN
METHOD:PUBLISH
BEGIN:VEVENT
UID:1301-brocante-vide-grenier@bradeur.fr
DTSTAMP:20260425T143023Z
DTSTART:20260313T080000
DTEND:20260313T180000
SUMMARY:Brocante - vide grenier
DESCRIPTION:Le coeur de village est animé; notamment par ses commerces, te
 rrasses de cafés et restaurants.\nA l’automne et l’hiver, certains exp
 osants remballent à partir de 13 heures.\nSur réservation. Emplacements d
 e 6 mètres pour 15 €.\nPas de véhicule sur les stands.\nParkings à pro
 ximité.\nVous pouvez venir à partir de 6 heures, mais ça démarre tard.\
 nA l’automne et en hiver, certains exposants remballent à pa
LOCATION:Cours Théodore Bouge, 83690 Salernes
URL:https://bradeur.fr/braderie.php?slug=brocante-vide-grenier
END:VEVENT
END:VCALENDAR
