BEGIN:VCALENDAR
VERSION:2.0
PRODID:-//Bradeur.fr//FR
CALSCALE:GREGORIAN
METHOD:PUBLISH
BEGIN:VEVENT
UID:1812-brocante-vide-grenier-3@bradeur.fr
DTSTAMP:20260425T234907Z
DTSTART:20260510T080000
DTEND:20260510T170000
SUMMARY:Brocante - vide grenier
DESCRIPTION:Vente au deballage sur la place autour de la mairie\nDe 7 heure
 s a 17 heures\n15 euros les 5 metres avec petit vehicule\n\nDimanche 8 Mars
  2026\nde 8h00 à 17h00\n\nVioletta\nRoute de Villefranche\n46090 Arcambal
LOCATION:Route de Villefranche, 46090 Arcambal
URL:https://bradeur.fr/braderie.php?slug=brocante-vide-grenier-3
END:VEVENT
END:VCALENDAR
