BEGIN:VCALENDAR
VERSION:2.0
PRODID:-//Bradeur.fr//FR
CALSCALE:GREGORIAN
METHOD:PUBLISH
BEGIN:VEVENT
UID:1077-brocnmusic-gmail-com-rotary-club-musique@bradeur.fr
DTSTAMP:20260425T194459Z
DTSTART:20260919T090000
DTEND:20260919T180000
SUMMARY:brocnmusic@gmail.com — Rotary Club Musique
DESCRIPTION:Samedi 19 Septembre 2026\nde 9h00 à 18h00\n\nbrocnmusic@gmail.
 com\n60000 Beauvais
LOCATION:60000 Beauvais
URL:https://bradeur.fr/braderie.php?slug=brocnmusic-gmail-com-rotary-club-m
 usique
END:VEVENT
END:VCALENDAR
