BEGIN:VCALENDAR
VERSION:2.0
PRODID:-//Bradeur.fr//FR
CALSCALE:GREGORIAN
METHOD:PUBLISH
BEGIN:VEVENT
UID:582-bulle-de-bien-etre-et-de-serenite-vide-greniers@bradeur.fr
DTSTAMP:20260425T180730Z
DTSTART:20260329T090000
DTEND:20260329T130000
SUMMARY:Bulle de bien-être et de sérénité — Vide-greniers
DESCRIPTION:Dimanche 29 Mars 2026\nde 9h00 à 13h00\n\nBulle de bien-être 
 et de sérénité\n62880 Estevelles
LOCATION:62880 Estevelles
URL:https://bradeur.fr/braderie.php?slug=bulle-de-bien-etre-et-de-serenite-
 vide-greniers
END:VEVENT
END:VCALENDAR
