BEGIN:VCALENDAR
VERSION:2.0
PRODID:-//Bradeur.fr//FR
CALSCALE:GREGORIAN
METHOD:PUBLISH
BEGIN:VEVENT
UID:812-cabb-vide-greniers@bradeur.fr
DTSTAMP:20260425T204220Z
DTSTART:20260508T080000
DTEND:20260508T140000
SUMMARY:CABB — Vide-greniers
DESCRIPTION:Vendredi 8 Mai 2026\nde 8h00 à 14h00\n\nCABB\n59000 Lille
LOCATION:59000 Lille
URL:https://bradeur.fr/braderie.php?slug=cabb-vide-greniers
END:VEVENT
END:VCALENDAR
