BEGIN:VCALENDAR
VERSION:2.0
PRODID:-//Bradeur.fr//FR
CALSCALE:GREGORIAN
METHOD:PUBLISH
BEGIN:VEVENT
UID:660-calmette-clemenceau-vide-greniers@bradeur.fr
DTSTAMP:20260425T180226Z
DTSTART:20260412T080000
DTEND:20260412T140000
SUMMARY:Calmette Clémenceau — Vide-greniers
DESCRIPTION:Actualités\n\n&nbsp;&nbsp;&nbsp;&nbsp;&nbsp;&nbsp;\n\nDécouvr
 ezles actus à la une !\n\n{loadmoduleid 690}\n\n{loadmoduleid 801}\n\nVoir
  toutes les actualit\n\nDimanche 12 Avril 2026\nde 8h00 à 14h00\n\nCalmett
 e Clémenceau\n59700 Marcq En Baroeul
LOCATION:59700 Marcq En Baroeul
URL:https://bradeur.fr/braderie.php?slug=calmette-clemenceau-vide-greniers
END:VEVENT
END:VCALENDAR
