BEGIN:VCALENDAR
VERSION:2.0
PRODID:-//Bradeur.fr//FR
CALSCALE:GREGORIAN
METHOD:PUBLISH
BEGIN:VEVENT
UID:1109-cartophilie-enfant-a-mont-saint-eloi@bradeur.fr
DTSTAMP:20260425T180841Z
DTSTART:20261010T090000
DTEND:20261010T170000
SUMMARY:Cartophilie Enfant à Mont Saint Eloi
DESCRIPTION:Samedi 10 Octobre 2026\nde 9h00 à 17h00\n\n62144 Mont Saint El
 oi
LOCATION:62144 Mont Saint Eloi
URL:https://bradeur.fr/braderie.php?slug=cartophilie-enfant-a-mont-saint-el
 oi
END:VEVENT
END:VCALENDAR
