BEGIN:VCALENDAR
VERSION:2.0
PRODID:-//Bradeur.fr//FR
CALSCALE:GREGORIAN
METHOD:PUBLISH
BEGIN:VEVENT
UID:552-casc-brocante-hotmail-fr-brocante@bradeur.fr
DTSTAMP:20260425T180601Z
DTSTART:20260329T080000
DTEND:20260329T170000
SUMMARY:casc.brocante@hotmail.fr — Brocante
DESCRIPTION:Ce nouveau site internet se veut plus intuitif et moderne. Il 
 regroupe l'essentiel des informations dont vous avez besoins.  - Bollezeel
 e\n\nDimanche 29 Mars 2026\nde 8h00 à 17h00\n\ncasc.brocante@hotmail.fr\n5
 9470 Bollezeele
LOCATION:59470 Bollezeele
URL:https://bradeur.fr/braderie.php?slug=casc-brocante-hotmail-fr-brocante
END:VEVENT
END:VCALENDAR
