BEGIN:VCALENDAR
VERSION:2.0
PRODID:-//Bradeur.fr//FR
CALSCALE:GREGORIAN
METHOD:PUBLISH
BEGIN:VEVENT
UID:1096-caslcarnieres-free-fr-casl-bourse@bradeur.fr
DTSTAMP:20260425T180548Z
DTSTART:20261003T100000
DTEND:20261003T170000
SUMMARY:caslcarnieres@free.fr — Casl Bourse
DESCRIPTION:Samedi 3 Octobre 2026\nde 10h00 à 17h00\n\ncaslcarnieres@free.
 fr\n59217 Carnieres
LOCATION:59217 Carnieres
URL:https://bradeur.fr/braderie.php?slug=caslcarnieres-free-fr-casl-bourse
END:VEVENT
END:VCALENDAR
