BEGIN:VCALENDAR
VERSION:2.0
PRODID:-//Bradeur.fr//FR
CALSCALE:GREGORIAN
METHOD:PUBLISH
BEGIN:VEVENT
UID:644-cbm-athletisme-puces@bradeur.fr
DTSTAMP:20260425T214042Z
DTSTART:20260411T100000
DTEND:20260411T180000
SUMMARY:CBM athlétisme — Puces
DESCRIPTION:le club les Carabiniers de Billy-Montigny Athlétisme Club FFA 
 depuis 1991 Adhérer au club Un club de passionnés accessible à tous  CB
 M Athlétisme accueille tous les passionnés d’athlétisme,débutants ou 
 confirmés, enfants ou adultes, autour de trois valeurs :Apprentissage, Pla
 isir et Performance. Rejoignez-nous pour progresser à votre rythme, dans u
 ne ambiance conviviale où chaque foulée est une av
LOCATION:62420 Billy Montigny
URL:https://bradeur.fr/braderie.php?slug=cbm-athletisme-puces
END:VEVENT
END:VCALENDAR
