BEGIN:VCALENDAR
VERSION:2.0
PRODID:-//Bradeur.fr//FR
CALSCALE:GREGORIAN
METHOD:PUBLISH
BEGIN:VEVENT
UID:624-ccne-groupement-collectionneurs-noeux-et-environs-bourse-collection
 s@bradeur.fr
DTSTAMP:20260425T210355Z
DTSTART:20260406T080000
DTEND:20260406T150000
SUMMARY:ccne. groupement collectionneurs Noeux et environs — Bourse Colle
 ctions
DESCRIPTION:Lundi 6 Avril 2026\nde 8h00 à 15h00\n\nccne. groupement collec
 tionneurs Noeux et environs\n62290 Noeux Les Mines
LOCATION:62290 Noeux Les Mines
URL:https://bradeur.fr/braderie.php?slug=ccne-groupement-collectionneurs-no
 eux-et-environs-bourse-collections
END:VEVENT
END:VCALENDAR
