BEGIN:VCALENDAR
VERSION:2.0
PRODID:-//Bradeur.fr//FR
CALSCALE:GREGORIAN
METHOD:PUBLISH
BEGIN:VEVENT
UID:933-centre-social-cocteau-vide-greniers@bradeur.fr
DTSTAMP:20260425T205332Z
DTSTART:20260607T080000
DTEND:20260607T150000
SUMMARY:Centre Social " Cocteau " — Vide-greniers
DESCRIPTION:Dimanche 7 Juin 2026\nde 8h00 à 15h00\n\nCentre Social " Cocte
 au "\n59650 Villeneuve D'ascq
LOCATION:59650 Villeneuve D'ascq
URL:https://bradeur.fr/braderie.php?slug=centre-social-cocteau-vide-grenier
 s
END:VEVENT
END:VCALENDAR
