BEGIN:VCALENDAR
VERSION:2.0
PRODID:-//Bradeur.fr//FR
CALSCALE:GREGORIAN
METHOD:PUBLISH
BEGIN:VEVENT
UID:605-centre-social-de-l-avenir-vide-greniers@bradeur.fr
DTSTAMP:20260425T180712Z
DTSTART:20260405T080000
DTEND:20260405T140000
SUMMARY:Centre Social de l'Avenir — Vide-greniers
DESCRIPTION:Dimanche 5 Avril 2026\nde 8h00 à 14h00\n\nCentre Social de l'A
 venir\n59150 Wattrelos
LOCATION:59150 Wattrelos
URL:https://bradeur.fr/braderie.php?slug=centre-social-de-l-avenir-vide-gre
 niers
END:VEVENT
END:VCALENDAR
