BEGIN:VCALENDAR
VERSION:2.0
PRODID:-//Bradeur.fr//FR
CALSCALE:GREGORIAN
METHOD:PUBLISH
BEGIN:VEVENT
UID:726-chatperlipopette-bourse-collections@bradeur.fr
DTSTAMP:20260426T031908Z
DTSTART:20260426T090000
DTEND:20260426T170000
SUMMARY:Chatperlipopette — Bourse Collections
DESCRIPTION:Dimanche 26 Avril 2026\nde 9h00 à 17h00\n\nChatperlipopette\n5
 9630 Bourbourg
LOCATION:59630 Bourbourg
URL:https://bradeur.fr/braderie.php?slug=chatperlipopette-bourse-collection
 s
END:VEVENT
END:VCALENDAR
