BEGIN:VCALENDAR
VERSION:2.0
PRODID:-//Bradeur.fr//FR
CALSCALE:GREGORIAN
METHOD:PUBLISH
BEGIN:VEVENT
UID:727-chatperlipopette-chatperlipopette-auto@bradeur.fr
DTSTAMP:20260425T193751Z
DTSTART:20260426T090000
DTEND:20260426T170000
SUMMARY:Chatperlipopette — Chatperlipopette Auto
DESCRIPTION:Dimanche 26 Avril 2026\nde 9h00 à 17h00\n\nChatperlipopette\n5
 9630 Bourbourg
LOCATION:59630 Bourbourg
URL:https://bradeur.fr/braderie.php?slug=chatperlipopette-chatperlipopette-
 auto
END:VEVENT
END:VCALENDAR
