BEGIN:VCALENDAR
VERSION:2.0
PRODID:-//Bradeur.fr//FR
CALSCALE:GREGORIAN
METHOD:PUBLISH
BEGIN:VEVENT
UID:849-chti-pins-chti-pins-pins@bradeur.fr
DTSTAMP:20260425T210041Z
DTSTART:20260510T080000
DTEND:20260510T180000
SUMMARY:CHTI PINS — Chti Pins Pins
DESCRIPTION:Hesdin-la-Forêt Contact Cliquez ici pour signaler facilement u
 n problème de voirie ou un équipement défectueux Accéder Police Municip
 ale cliquez ici pour contacter les agents de la Police Municipale Accéder 
 Évènements à venir​ 🌳 Engagement, proximité et ambition seront les
  maîtres-mots de ce mandat. Merci à toutes et à tous pour votre confianc
 e. Au travail, pour […]\n\nDimanche 10 Mai 2026\nde 8h00 à
LOCATION:62140 Hesdin La Forêt
URL:https://bradeur.fr/braderie.php?slug=chti-pins-chti-pins-pins
END:VEVENT
END:VCALENDAR
