BEGIN:VCALENDAR
VERSION:2.0
PRODID:-//Bradeur.fr//FR
CALSCALE:GREGORIAN
METHOD:PUBLISH
BEGIN:VEVENT
UID:1091-clac-cuincy-loisirs-animations-culture-137-rue-pasteur-brocante-1@
 bradeur.fr
DTSTAMP:20260425T210946Z
DTSTART:20260927T080000
DTEND:20260927T140000
SUMMARY:CLAC Cuincy Loisirs Animations Culture 137 rue Pasteur — Brocante
DESCRIPTION:Cuincy, un site internet avec de multiples services en ligne po
 ur le cuincynois. Retrouvez y les événements et toute l'information de la
  ville.\n\nDimanche 27 Septembre 2026\nde 8h00 à 14h00\n\nCLAC Cuincy Lois
 irs Animations Culture 137 rue Pasteur\n59553 Cuincy
LOCATION:59553 Cuincy
URL:https://bradeur.fr/braderie.php?slug=clac-cuincy-loisirs-animations-cul
 ture-137-rue-pasteur-brocante-1
END:VEVENT
END:VCALENDAR
