BEGIN:VCALENDAR
VERSION:2.0
PRODID:-//Bradeur.fr//FR
CALSCALE:GREGORIAN
METHOD:PUBLISH
BEGIN:VEVENT
UID:1132-clm-puces@bradeur.fr
DTSTAMP:20260425T175811Z
DTSTART:20261108T093000
DTEND:20261108T173000
SUMMARY:CLM — Puces
DESCRIPTION:Dimanche 8 Novembre 2026\nde 9h30 à 17h30\n\nCLM\n59283 Monche
 aux
LOCATION:59283 Moncheaux
URL:https://bradeur.fr/braderie.php?slug=clm-puces
END:VEVENT
END:VCALENDAR
