BEGIN:VCALENDAR
VERSION:2.0
PRODID:-//Bradeur.fr//FR
CALSCALE:GREGORIAN
METHOD:PUBLISH
BEGIN:VEVENT
UID:778-club-d-animations-et-de-loisirs-brocante@bradeur.fr
DTSTAMP:20260426T022754Z
DTSTART:20260501T073000
DTEND:20260501T170000
SUMMARY:Club d'Animations et de Loisirs — Brocante
DESCRIPTION:Fillièvres est une commune française située dans le Pas-de-C
 alais. Les habitants sont appelés les Fillièvrois et les Fillièvroises. 
 Nombreuses associations qui se mobilisent toute l'année. Communauté de co
 mmunes « 7 Vallées com ». Le premier magistrat de Fillièvres est depuis
  le 7 septembre 2018 Monsieur Jim Dourlens.\n\nVendredi 1 Mai 2026\nde 7h30
  à 17h00\n\nClub d'Animations et de Loisirs\n62770 Fill
LOCATION:62770 Fillievres
URL:https://bradeur.fr/braderie.php?slug=club-d-animations-et-de-loisirs-br
 ocante
END:VEVENT
END:VCALENDAR
