BEGIN:VCALENDAR
VERSION:2.0
PRODID:-//Bradeur.fr//FR
CALSCALE:GREGORIAN
METHOD:PUBLISH
BEGIN:VEVENT
UID:718-club-de-l-amitie-d-helfaut-vide-greniers@bradeur.fr
DTSTAMP:20260425T180835Z
DTSTART:20260419T070000
DTEND:20260419T180000
SUMMARY:Club de l'amitié d'Helfaut — Vide-greniers
DESCRIPTION:Dimanche 19 Avril 2026\nde 7h00 à 18h00\n\nClub de l'amitié d
 'Helfaut\n62570 Helfaut
LOCATION:62570 Helfaut
URL:https://bradeur.fr/braderie.php?slug=club-de-l-amitie-d-helfaut-vide-gr
 eniers
END:VEVENT
END:VCALENDAR
