BEGIN:VCALENDAR
VERSION:2.0
PRODID:-//Bradeur.fr//FR
CALSCALE:GREGORIAN
METHOD:PUBLISH
BEGIN:VEVENT
UID:1112-club-du-3eme-age-disque-a-bavay@bradeur.fr
DTSTAMP:20260425T180718Z
DTSTART:20261011T090000
DTEND:20261011T170000
SUMMARY:Club Du 3eme Age Disque à Bavay
DESCRIPTION:Dimanche 11 Octobre 2026\nde 9h00 à 17h00\n\n59570 Bavay
LOCATION:59570 Bavay
URL:https://bradeur.fr/braderie.php?slug=club-du-3eme-age-disque-a-bavay
END:VEVENT
END:VCALENDAR
