BEGIN:VCALENDAR
VERSION:2.0
PRODID:-//Bradeur.fr//FR
CALSCALE:GREGORIAN
METHOD:PUBLISH
BEGIN:VEVENT
UID:695-club-du-renouveau-puces@bradeur.fr
DTSTAMP:20260425T221308Z
DTSTART:20260418T090000
DTEND:20260418T170000
SUMMARY:Club du renouveau — Puces
DESCRIPTION:Samedi 18 Avril 2026\nde 9h00 à 17h00\n\nClub du renouveau\n62
 113 Verquigneul
LOCATION:62113 Verquigneul
URL:https://bradeur.fr/braderie.php?slug=club-du-renouveau-puces
END:VEVENT
END:VCALENDAR
