BEGIN:VCALENDAR
VERSION:2.0
PRODID:-//Bradeur.fr//FR
CALSCALE:GREGORIAN
METHOD:PUBLISH
BEGIN:VEVENT
UID:1056-club-football-brocante@bradeur.fr
DTSTAMP:20260426T000407Z
DTSTART:20260829T130000
DTEND:20260829T190000
SUMMARY:CLUB Football — Brocante
DESCRIPTION:Samedi 29 Août 2026\nde 13h00 à 19h00\n\nCLUB Football\n59227
  Saulzoir
LOCATION:59227 Saulzoir
URL:https://bradeur.fr/braderie.php?slug=club-football-brocante
END:VEVENT
END:VCALENDAR
