BEGIN:VCALENDAR
VERSION:2.0
PRODID:-//Bradeur.fr//FR
CALSCALE:GREGORIAN
METHOD:PUBLISH
BEGIN:VEVENT
UID:537-club-philatelique-lambersartois-bourse-collections@bradeur.fr
DTSTAMP:20260425T180845Z
DTSTART:20260328T090000
DTEND:20260328T160000
SUMMARY:Club Philatélique Lambersartois — Bourse Collections
DESCRIPTION:Bienvenue sur le site officiel de Lambersart. Découvrez ici to
 us les services de la ville : démarches en ligne, événements et actualit
 és.\n\nSamedi 28 Mars 2026\nde 9h00 à 16h00\n\nClub Philatélique Lambers
 artois\n59130 Lambersart
LOCATION:59130 Lambersart
URL:https://bradeur.fr/braderie.php?slug=club-philatelique-lambersartois-bo
 urse-collections
END:VEVENT
END:VCALENDAR
