BEGIN:VCALENDAR
VERSION:2.0
PRODID:-//Bradeur.fr//FR
CALSCALE:GREGORIAN
METHOD:PUBLISH
BEGIN:VEVENT
UID:574-club-supporters-esh-brocante@bradeur.fr
DTSTAMP:20260425T180548Z
DTSTART:20260329T080000
DTEND:20260329T160000
SUMMARY:club supporters ESH — Brocante
DESCRIPTION:Site officiel de la mairie Helesmes\n\nDimanche 29 Mars 2026\nd
 e 8h00 à 16h00\n\nclub supporters ESH\n59171 Helesmes
LOCATION:59171 Helesmes
URL:https://bradeur.fr/braderie.php?slug=club-supporters-esh-brocante
END:VEVENT
END:VCALENDAR
