BEGIN:VCALENDAR
VERSION:2.0
PRODID:-//Bradeur.fr//FR
CALSCALE:GREGORIAN
METHOD:PUBLISH
BEGIN:VEVENT
UID:651-cmcf-modelisme-ferroviaire-a-oignies@bradeur.fr
DTSTAMP:20260425T180200Z
DTSTART:20260411T100000
DTEND:20260412T180000
SUMMARY:Cmcf Modelisme Ferroviaire à Oignies
DESCRIPTION:Samedi 11 Avril 2026\nde 10h00 à 18h00\n\nDimanche 12 Avril 20
 26\nde 10h00 à 18h00\n\nBienvenue au CMCF\n62590 Oignies
LOCATION:62590 Oignies
URL:https://bradeur.fr/braderie.php?slug=cmcf-modelisme-ferroviaire-a-oigni
 es
END:VEVENT
END:VCALENDAR
