BEGIN:VCALENDAR
VERSION:2.0
PRODID:-//Bradeur.fr//FR
CALSCALE:GREGORIAN
METHOD:PUBLISH
BEGIN:VEVENT
UID:560-cmj-conseil-municipal-des-jeunes-cmj-enfant@bradeur.fr
DTSTAMP:20260425T180857Z
DTSTART:20260329T143000
DTEND:20260329T173000
SUMMARY:CMJ Conseil Municipal Des Jeunes — Cmj Enfant
DESCRIPTION:Bienvenue sur le site officiel de Cappelle-en-Pévèle. Découv
 rez ici tous les services de la ville : démarches en ligne, évènements e
 t actualités\n\nDimanche 29 Mars 2026\nde 14h30 à 17h30\n\nCMJ Conseil Mu
 nicipal Des Jeunes\n59242 Cappelle En Pevele
LOCATION:59242 Cappelle En Pevele
URL:https://bradeur.fr/braderie.php?slug=cmj-conseil-municipal-des-jeunes-c
 mj-enfant
END:VEVENT
END:VCALENDAR
