BEGIN:VCALENDAR
VERSION:2.0
PRODID:-//Bradeur.fr//FR
CALSCALE:GREGORIAN
METHOD:PUBLISH
BEGIN:VEVENT
UID:890-comite-animation-quesnes-vide-greniers@bradeur.fr
DTSTAMP:20260425T190737Z
DTSTART:20260524T080000
DTEND:20260524T130000
SUMMARY:comité animation Quesnes — Vide-greniers
DESCRIPTION:Actualités\n\n&nbsp;&nbsp;&nbsp;&nbsp;&nbsp;&nbsp;\n\nDécouvr
 ezles actus à la une !\n\n{loadmoduleid 690}\n\n{loadmoduleid 801}\n\nVoir
  toutes les actualit\n\nDimanche 24 Mai 2026\nde 8h00 à 13h00\n\ncomité a
 nimation Quesnes\n59700 Marcq En Baroeul
LOCATION:59700 Marcq En Baroeul
URL:https://bradeur.fr/braderie.php?slug=comite-animation-quesnes-vide-gren
 iers
END:VEVENT
END:VCALENDAR
