BEGIN:VCALENDAR
VERSION:2.0
PRODID:-//Bradeur.fr//FR
CALSCALE:GREGORIAN
METHOD:PUBLISH
BEGIN:VEVENT
UID:611-comite-d-animation-bourse-collections@bradeur.fr
DTSTAMP:20260425T175837Z
DTSTART:20260405T080000
DTEND:20260405T170000
SUMMARY:Comité d'Animation — Bourse Collections
DESCRIPTION:Dimanche 5 Avril 2026\nde 8h00 à 17h00\n\nComité d'Animation\
 n59360 Neuvilly
LOCATION:59360 Neuvilly
URL:https://bradeur.fr/braderie.php?slug=comite-d-animation-bourse-collecti
 ons
END:VEVENT
END:VCALENDAR
