BEGIN:VCALENDAR
VERSION:2.0
PRODID:-//Bradeur.fr//FR
CALSCALE:GREGORIAN
METHOD:PUBLISH
BEGIN:VEVENT
UID:1019-comite-d-animation-et-de-loisirs-brocante@bradeur.fr
DTSTAMP:20260425T235318Z
DTSTART:20260719T080000
DTEND:20260719T180000
SUMMARY:Comité d'animation et de loisirs — Brocante
DESCRIPTION:Dimanche 19 Juillet 2026\nde 8h00 à 18h00\n\nComité d'animati
 on et de loisirs\n59258 Les Rues Des Vignes
LOCATION:59258 Les Rues Des Vignes
URL:https://bradeur.fr/braderie.php?slug=comite-d-animation-et-de-loisirs-b
 rocante
END:VEVENT
END:VCALENDAR
