BEGIN:VCALENDAR
VERSION:2.0
PRODID:-//Bradeur.fr//FR
CALSCALE:GREGORIAN
METHOD:PUBLISH
BEGIN:VEVENT
UID:637-comite-de-jean-le-messager-brocante@bradeur.fr
DTSTAMP:20260425T205117Z
DTSTART:20260411T090000
DTEND:20260412T170000
SUMMARY:Comité de Jean le Messager — Brocante
DESCRIPTION:Samedi 11 Avril 2026\nde 9h00 à 17h00\n\nDimanche 12 Avril 202
 6\nde 9h00 à 17h00\n\nComité de Jean le Messager\n59490 Somain
LOCATION:59490 Somain
URL:https://bradeur.fr/braderie.php?slug=comite-de-jean-le-messager-brocant
 e
END:VEVENT
END:VCALENDAR
